<?xml version="1.0" encoding="utf-8"?>
    <TileMap version="1.0.0" tilemapservice="http://tms.osgeo.org/1.0.0">
      <Title>mouza_map_georef.tif</Title>
      <Abstract></Abstract>
      <SRS>EPSG:3857</SRS>
      <BoundingBox minx="88.36278888888889" miny="22.52238247863866" maxx="88.40153362270046" maxy="22.57371111111111"/>
      <Origin x="88.36278888888889" y="22.52238247863866"/>
      <TileFormat width="256" height="256" mime-type="image/png" extension="png"/>
      <TileSets profile="mercator">
        <TileSet href="15" units-per-pixel="4.77731426696777" order="15"/>
      </TileSets>
    </TileMap>
    